BEGIN:VCALENDAR
VERSION:2.0
PRODID:-//Yes! there's an OIL for that... - ECPv6.8.3//NONSGML v1.0//EN
CALSCALE:GREGORIAN
METHOD:PUBLISH
X-WR-CALNAME:Yes! there's an OIL for that...
X-ORIGINAL-URL:https://yestheresanoilforthat.com
X-WR-CALDESC:Events for Yes! there's an OIL for that...
REFRESH-INTERVAL;VALUE=DURATION:PT1H
X-Robots-Tag:noindex
X-PUBLISHED-TTL:PT1H
BEGIN:VTIMEZONE
TZID:America/New_York
BEGIN:DAYLIGHT
TZOFFSETFROM:-0500
TZOFFSETTO:-0400
TZNAME:EDT
DTSTART:20190310T070000
END:DAYLIGHT
BEGIN:STANDARD
TZOFFSETFROM:-0400
TZOFFSETTO:-0500
TZNAME:EST
DTSTART:20191103T060000
END:STANDARD
END:VTIMEZONE
BEGIN:VEVENT
DTSTART;TZID=America/New_York:20190927T190000
DTEND;TZID=America/New_York:20190927T210000
DTSTAMP:20260422T134912
CREATED:20190915T021316Z
LAST-MODIFIED:20190915T021603Z
UID:6006-1569610800-1569618000@yestheresanoilforthat.com
SUMMARY:Make And Take Your Own Memory
DESCRIPTION:Imagine designing and Crafting your own Memory Bottle?\nor\nmaking that special personal gift for a friend or relative.\nYour investment is $30.00.\nJust imagine the surprise when they open your gift!!!!!!\nYou’ll be learning the current Shabby Chic tried and true techniques.\nYou will need to send 6-8 of your favorite pictures via e-Mail to Milinda for copying.\ne-Mail
URL:https://yestheresanoilforthat.com/event/make-and-take-your-own-memory/
LOCATION:Ms Bee Haven Angel Alley The Community Healing Place\, 10 West Union Street\, East Bridgewater\, MA\, 02333\, United States
CATEGORIES:Crafting Classes,Make and Take Class
ATTACH;FMTTYPE=image/jpeg:https://yestheresanoilforthat.com/wp-content/uploads/2019/09/memorybottleclass-e1568513372861.jpg
ORGANIZER;CN="Milinda":MAILTO:ihaveanoilforit@gmail.com
END:VEVENT
END:VCALENDAR